BEGIN:VCALENDAR
VERSION:2.0
METHOD:PUBLISH
PRODID:-//ddaysoftware.com//NONSGML DDay.iCal 1.0//EN
X-WR-CALNAME:Truman's Birthday Holiday - Court's Closed
BEGIN:VTIMEZONE
TZID:Central Standard Time
BEGIN:STANDARD
DTSTART;VALUE=DATE:18000101
RRULE:FREQ=YEARLY;BYDAY=SU;BYHOUR=2;BYMINUTE=0;BYMONTH=10;BYMONTHDAY=25,26,
 27,28,29,30,31
TZOFFSETFROM:-0500
TZOFFSETTO:-0600
END:STANDARD
BEGIN:DAYLIGHT
DTSTART;VALUE=DATE:18000101
RRULE:FREQ=YEARLY;BYDAY=SU;BYHOUR=2;BYMINUTE=0;BYMONTH=4;BYMONTHDAY=1,2,3,4
 ,5,6,7
TZOFFSETFROM:-0600
TZOFFSETTO:-0500
END:DAYLIGHT
BEGIN:STANDARD
DTSTART;VALUE=DATE:20070101
RRULE:FREQ=YEARLY;BYDAY=SU;BYHOUR=2;BYMINUTE=0;BYMONTH=11;BYMONTHDAY=1,2,3,
 4,5,6,7
TZOFFSETFROM:-0500
TZOFFSETTO:-0600
END:STANDARD
BEGIN:DAYLIGHT
DTSTART;VALUE=DATE:20070101
RRULE:FREQ=YEARLY;BYDAY=SU;BYHOUR=2;BYMINUTE=0;BYMONTH=3;BYMONTHDAY=8,9,10,
 11,12,13,14
TZOFFSETFROM:-0600
TZOFFSETTO:-0500
END:DAYLIGHT
END:VTIMEZONE
BEGIN:VEVENT
DESCRIPTION:
DTEND;TZID=Central Standard Time;VALUE=DATE:20240509
DTSTAMP:20260423T105316
DTSTART;TZID=Central Standard Time;VALUE=DATE:20240508
LOCATION:
SEQUENCE:0
SUMMARY:Truman's Birthday Holiday - Court's Closed
UID:e6a96edc-8b77-42db-9f37-1039cff9ebde
URL:https://www.16thcircuit.org/trumans-birthday-holiday-2024-05-08
END:VEVENT
END:VCALENDAR
